BEGIN:VCALENDAR
VERSION:2.0
PRODID:-//wp-events-plugin.com//7.2.3.1//EN
TZID:Europe/Copenhagen
X-WR-TIMEZONE:Europe/Copenhagen
BEGIN:VEVENT
UID:1@koldingmotion.dk
DTSTART;VALUE=DATE:20220822
DTEND;VALUE=DATE:20221113
DTSTAMP:20221102T142240Z
URL:https://koldingmotion.dk/index.php/events/kom-og-deltag-i-loebeskoleaf
 slutning-loerdag-d-12-november/
SUMMARY:Kom og deltag i løbeskoleafslutning lørdag d. 12. november
DESCRIPTION:Kolding Motion indbyder til Løbeskoleafslutning lørdag d. 12
 . november kl. 9.30\n\n \n\nKom og deltag i afslutningsløbet. Der er tre
  distancer: 5\, 10 og 21\,1km. (5 og 10 km er med start kl. 10.00). Tilmel
 ding til HM sker via linket her: \n\nhttps://my.raceresult.com/224470/?fb
 clid=IwAR2TIxYSv-QfzpZ4VI8FBEoD_6urEUfuIRYMEcO5UAbCTtrx8__iYEiX6W8\n\n&nbs
 p\;\n\nVel mødt!                                  \n\nKo
 lding Motion\, Bøgelund\n\nBramdrupskovvej 40\, 6000 Kolding\n\n&nbsp\;\n
 \n&nbsp\;\n\nFor spørgsmål eller hvis du ønsker at melde dig som frivil
 lig ifm. arrangementet:\n\nSimone Hammond\, tlf. 2767981/shammond8@gmail.c
 om  el. Lene Freiesleben Hansen\, tlf. 30341822/administration@koldingmot
 ion.dk\n\nwww.koldingmotion.dk\n\n&nbsp\;
END:VEVENT
BEGIN:VEVENT
UID:3@koldingmotion.dk
DTSTART:20221103T000000Z
DTEND:20221126T000000Z
DTSTAMP:20221102T230746Z
URL:https://koldingmotion.dk/index.php/events/julefrokost-i-km-d-26-novemb
 er-2/
SUMMARY:Julefrokost i KM d. 26. november
DESCRIPTION:Så er det atter tid til årets bedste fest..  :)    \n\nKom
  og støt op om klublivet og hvem ved\, få nye venner for livet...\;)  D
 er er lagt op til en hyggelig aften med masser af go' mad\, grin og - mås
 ke også en lille svingom\;)\n\n&nbsp\;\n\nFestlige hilsner fra Festudvalg
 et\n\nKolding Motion
END:VEVENT
BEGIN:VEVENT
UID:4@koldingmotion.dk
DTSTART:20230118T183000Z
DTEND:20230118T203000Z
DTSTAMP:20230112T225920Z
URL:https://koldingmotion.dk/index.php/events/historier-med-martin/
SUMMARY:Historier med Martin
DESCRIPTION:Kom og hør et spændende oplæg om  anderledes løbeoplevelse
 r\, målsætninger\, træningsplanlægning og træningsformer. Det hele se
 rveres sammen med billeder der understøtter fortællingen. Fortælleren e
 r Martin V. Hansen fra vores egne rækker. Historierne handler overvejende
  om vejen frem til at løbe et fornuftigt CPH maraton maj 2022\, og hvad d
 er herefter gjorde\, at det blev vekslet til yderligere 3 usædvanlige mar
 atonløb i 2022. Men der er mange afstikkere til forskellige andre ting un
 dervejs. Det er vigtigt for Martin at følgende skal være klart. Det er i
 kke en historie om at nørde maratontræning overhovedet.\n\nMartin skrive
 r selv i sit manus: Jeg vil gerne være med til at sprede inspiration og m
 otivation til at løbe. Gøre det sjovere – forbedre sig – og få noge
 n gode oplevelser med hjem\, uanset om det er 5 km eller ultraløb\, om de
 t er i vores baghave eller ude i verden. Tiden er heller ikke vigtig. Det 
 vigtigste er at komme gladere hjem\, og at man har åbnet max for sanseapp
 aratet undervejs.\n\nDet foregår onsdag efter løb den 18. januar klokken
  18.30 i ”kantinen”.\n\n&nbsp\;\n\nVel mødt!
END:VEVENT
END:VCALENDAR